BEGIN:VCALENDAR
VERSION:2.0
PRODID:-//Qalipu - ECPv4.5.13//NONSGML v1.0//EN
CALSCALE:GREGORIAN
METHOD:PUBLISH
X-WR-CALNAME:Qalipu
X-ORIGINAL-URL:https://qalipu.ca
X-WR-CALDESC:Events for Qalipu
BEGIN:VEVENT
DTSTART;TZID=UTC-3.5:20170225T140000
DTEND;TZID=UTC-3.5:20170225T140000
DTSTAMP:20260421T101816
CREATED:20170217T150454Z
LAST-MODIFIED:20170224T162857Z
UID:6180-1488031200-1488031200@qalipu.ca
SUMMARY:End of Enrolment Community Sessions - Gambo *Postponed\, new date to be added
DESCRIPTION:Smallwood Interpretation Centre \n
URL:https://qalipu.ca/event/end-of-enrolment-community-sessions-gambo/
CATEGORIES:General
ATTACH;FMTTYPE=image/jpeg:https://qalipu.ca/qalipu/wp-content/uploads/2016/08/meeting.jpeg
END:VEVENT
END:VCALENDAR