BEGIN:VCALENDAR
VERSION:2.0
PRODID:-//Qalipu - ECPv4.5.13//NONSGML v1.0//EN
CALSCALE:GREGORIAN
METHOD:PUBLISH
X-WR-CALNAME:Qalipu
X-ORIGINAL-URL:https://qalipu.ca
X-WR-CALDESC:Events for Qalipu
BEGIN:VEVENT
DTSTART;TZID=UTC-3.5:20170316T180000
DTEND;TZID=UTC-3.5:20170316T180000
DTSTAMP:20260420T113906
CREATED:20170217T151151Z
LAST-MODIFIED:20170310T130005Z
UID:6187-1489687200-1489687200@qalipu.ca
SUMMARY:End of Enrolment Community Sessions - Port Saunders
DESCRIPTION:Recreation Centre \n
URL:https://qalipu.ca/event/end-of-enrolment-community-sessions-port-saunders/
CATEGORIES:General
ATTACH;FMTTYPE=image/jpeg:https://qalipu.ca/qalipu/wp-content/uploads/2016/08/meeting.jpeg
END:VEVENT
END:VCALENDAR