BEGIN:VCALENDAR
VERSION:2.0
PRODID:-//Qalipu - ECPv4.5.13//NONSGML v1.0//EN
CALSCALE:GREGORIAN
METHOD:PUBLISH
X-WR-CALNAME:Qalipu
X-ORIGINAL-URL:https://qalipu.ca
X-WR-CALDESC:Events for Qalipu
BEGIN:VEVENT
DTSTART;TZID=UTC-3.5:20190218T180000
DTEND;TZID=UTC-3.5:20190218T200000
DTSTAMP:20260420T023910
CREATED:20190207T162505Z
LAST-MODIFIED:20190207T162505Z
UID:10209-1550512800-1550520000@qalipu.ca
SUMMARY:Engagement Session
DESCRIPTION:
URL:https://qalipu.ca/event/engagement-session/
LOCATION:1 Church Street\, Corner Brook\, NL\, A2H 2Z4\, Canada
CATEGORIES:General
ATTACH;FMTTYPE=image/jpeg:https://qalipu.ca/qalipu/wp-content/uploads/2019/02/Corner-Brook-Consult.jpg
END:VEVENT
END:VCALENDAR