BEGIN:VCALENDAR
VERSION:2.0
PRODID:-//Qalipu - ECPv4.5.13//NONSGML v1.0//EN
CALSCALE:GREGORIAN
METHOD:PUBLISH
X-WR-CALNAME:Qalipu
X-ORIGINAL-URL:https://qalipu.ca
X-WR-CALDESC:Events for Qalipu
BEGIN:VEVENT
DTSTART;TZID=UTC-3.5:20180117T190000
DTEND;TZID=UTC-3.5:20180117T190000
DTSTAMP:20260420T061341
CREATED:20180112T125436Z
LAST-MODIFIED:20180112T125436Z
UID:7817-1516215600-1516215600@qalipu.ca
SUMMARY:Exploits Mawio’mi Planning Meeting
DESCRIPTION:The Exploits Aboriginal Community Group is excited to begin planning for the Exploits Mawio’mi 2018. \nThe Mawio’mi in 2017 was a success and we wish to continue with this event every year. \nThis year the Community Group anticipates having a steering committee made up of members for all groups \, including people from all over our wards here in Central NL.  Even if you are not a ward member our doors are open to anyone who would like to participate or even be on the steering committee. \nInformation about the 2017 Mawio’mi will be shared\, and hopefully we can achieve building a steering committee of at least 6-8 people. We have at least 3 people who have identified themselves to date. If you are unable to attend but would like more information please contact Charlene Comdon at eacggfw@gmail.com \nIf you were part of the Mawio’mi 2017 please attend to help share information. \n
URL:https://qalipu.ca/event/exploits-mawiomi-planning-meeting/
LOCATION:28 Hardy Ave\, Grand Falls-Windsor\, NL\, Canada
CATEGORIES:General
END:VEVENT
END:VCALENDAR