BEGIN:VCALENDAR
VERSION:2.0
PRODID:-//Qalipu - ECPv4.5.13//NONSGML v1.0//EN
CALSCALE:GREGORIAN
METHOD:PUBLISH
X-WR-CALNAME:Qalipu
X-ORIGINAL-URL:https://qalipu.ca
X-WR-CALDESC:Events for Qalipu
BEGIN:VEVENT
DTSTART;TZID=UTC-3.5:20191103T133000
DTEND;TZID=UTC-3.5:20191103T153000
DTSTAMP:20260419T123240
CREATED:20191029T165530Z
LAST-MODIFIED:20191029T165530Z
UID:11268-1572787800-1572795000@qalipu.ca
SUMMARY:Exploits Ward Meeting
DESCRIPTION:Community Room (Rear entrance\, North Atlantic Gas Station) \n
URL:https://qalipu.ca/event/exploits-ward-meeting-2/
LOCATION:46 Hardy Avenue\, Grand Falls\, NL\, A2A 2J3\, Canada
CATEGORIES:Ward Meetings
END:VEVENT
END:VCALENDAR