BEGIN:VCALENDAR
VERSION:2.0
PRODID:-//Qalipu - ECPv4.5.13//NONSGML v1.0//EN
CALSCALE:GREGORIAN
METHOD:PUBLISH
X-WR-CALNAME:Qalipu
X-ORIGINAL-URL:https://qalipu.ca
X-WR-CALDESC:Events for Qalipu
BEGIN:VEVENT
DTSTART;TZID=UTC-3.5:20181214T183000
DTEND;TZID=UTC-3.5:20181214T183000
DTSTAMP:20260420T000329
CREATED:20181207T125936Z
LAST-MODIFIED:20181207T125936Z
UID:9985-1544812200-1544812200@qalipu.ca
SUMMARY:Family Christmas Social - Exploits Aboriginal Community Group
DESCRIPTION:
URL:https://qalipu.ca/event/family-christmas-social-exploits-aboriginal-community-group/
LOCATION:5 Station Road\, Grand Falls\, NL\, A0N 1Z0\, Canada
CATEGORIES:General
ATTACH;FMTTYPE=image/jpeg:https://qalipu.ca/qalipu/wp-content/uploads/2018/12/Christmas.jpg
END:VEVENT
END:VCALENDAR