BEGIN:VCALENDAR
VERSION:2.0
PRODID:-//Qalipu - ECPv4.5.13//NONSGML v1.0//EN
CALSCALE:GREGORIAN
METHOD:PUBLISH
X-WR-CALNAME:Qalipu
X-ORIGINAL-URL:https://qalipu.ca
X-WR-CALDESC:Events for Qalipu
BEGIN:VEVENT
DTSTART;TZID=UTC-3.5:20180212T190000
DTEND;TZID=UTC-3.5:20180212T210000
DTSTAMP:20260420T005337
CREATED:20180130T150531Z
LAST-MODIFIED:20180201T170522Z
UID:7938-1518462000-1518469200@qalipu.ca
SUMMARY:Focus Groups - Newfoundland Aboriginal Women’s Network and Status of Women Canada
DESCRIPTION:
URL:https://qalipu.ca/event/focus-groups-newfoundland-aboriginal-womens-network-and-status-of-women-canada-5/
LOCATION:329 Main Street\, St. George's\, Newfoundland and Labrador\, Canada
CATEGORIES:General
ATTACH;FMTTYPE=image/jpeg:https://qalipu.ca/qalipu/wp-content/uploads/2018/01/Focus-Group-Dates-and-Locations.jpg
END:VEVENT
END:VCALENDAR