BEGIN:VCALENDAR
VERSION:2.0
PRODID:-//Qalipu - ECPv4.5.13//NONSGML v1.0//EN
CALSCALE:GREGORIAN
METHOD:PUBLISH
X-WR-CALNAME:Qalipu
X-ORIGINAL-URL:https://qalipu.ca
X-WR-CALDESC:Events for Qalipu
BEGIN:VEVENT
DTSTART;TZID=UTC-3.5:20170212T140000
DTEND;TZID=UTC-3.5:20170212T140000
DTSTAMP:20260419T230653
CREATED:20170124T163441Z
LAST-MODIFIED:20170126T124350Z
UID:5982-1486908000-1486908000@qalipu.ca
SUMMARY:Bay St. George Cultural Circle - Fundraiser Bingo
DESCRIPTION:Games:\n10 regular merchandise games\n4 special merchandise games\n1 jackpot – $200.00 cash \nCards Prices:\n$2.00 a card or 3 cards for $5.00 slider cards\nSpecial cards for the special merchandise games and Jack Pot game \n
URL:https://qalipu.ca/event/fundraiser-bingo/
LOCATION:St. George's\, NL\, Canada
CATEGORIES:General
ATTACH;FMTTYPE=image/jpeg:https://qalipu.ca/qalipu/wp-content/uploads/2017/01/bsgcc-bINGO-fLYER.jpg
END:VEVENT
END:VCALENDAR