BEGIN:VCALENDAR
VERSION:2.0
PRODID:-//Qalipu - ECPv4.5.13//NONSGML v1.0//EN
CALSCALE:GREGORIAN
METHOD:PUBLISH
X-WR-CALNAME:Qalipu
X-ORIGINAL-URL:https://qalipu.ca
X-WR-CALDESC:Events for Qalipu
BEGIN:VEVENT
DTSTART;TZID=UTC-2.5:20161109T093000
DTEND;TZID=UTC-2.5:20161109T110000
DTSTAMP:20260420T042017
CREATED:20161102T162419Z
LAST-MODIFIED:20161102T170820Z
UID:5536-1478683800-1478689200@qalipu.ca
SUMMARY:Gathering With Caribou Legs - Corner Brook
DESCRIPTION:
URL:https://qalipu.ca/event/gathering-with-caribou-legs-corner-brook/
LOCATION:1 Church Street\, Corner Brook\, NL\, A2H 2Z4\, Canada
CATEGORIES:General
ATTACH;FMTTYPE=image/jpeg:https://qalipu.ca/qalipu/wp-content/uploads/2016/11/Event-Poster.jpg
END:VEVENT
END:VCALENDAR