BEGIN:VCALENDAR
VERSION:2.0
PRODID:-//Qalipu - ECPv4.5.13//NONSGML v1.0//EN
CALSCALE:GREGORIAN
METHOD:PUBLISH
X-WR-CALNAME:Qalipu
X-ORIGINAL-URL:https://qalipu.ca
X-WR-CALDESC:Events for Qalipu
BEGIN:VEVENT
DTSTART;TZID=UTC-2.5:20161107T183000
DTEND;TZID=UTC-2.5:20161107T183000
DTSTAMP:20260420T011650
CREATED:20161101T152659Z
LAST-MODIFIED:20161102T161907Z
UID:5526-1478543400-1478543400@qalipu.ca
SUMMARY:Gathering With Caribou Legs - Bay St. George
DESCRIPTION:
URL:https://qalipu.ca/event/gathering-with-caribou-legs/
LOCATION:St. George's\, NL\, Canada
CATEGORIES:General
ATTACH;FMTTYPE=image/jpeg:https://qalipu.ca/qalipu/wp-content/uploads/2016/11/Gathering-caribou-legs-St-Georges.jpg
END:VEVENT
END:VCALENDAR