BEGIN:VCALENDAR
VERSION:2.0
PRODID:-//Qalipu - ECPv4.5.13//NONSGML v1.0//EN
CALSCALE:GREGORIAN
METHOD:PUBLISH
X-WR-CALNAME:Qalipu
X-ORIGINAL-URL:https://qalipu.ca
X-WR-CALDESC:Events for Qalipu
BEGIN:VEVENT
DTSTART;TZID=UTC-3.5:20171015T190000
DTEND;TZID=UTC-3.5:20171015T210000
DTSTAMP:20260420T042633
CREATED:20171004T123237Z
LAST-MODIFIED:20171004T123237Z
UID:7383-1508094000-1508101200@qalipu.ca
SUMMARY:Glenwood Ward Meeting
DESCRIPTION:Meeting will be Oct 15\,2017 from 7-9 pm at the Appleton town Hall \n
URL:https://qalipu.ca/event/glenwood-ward-meeting-2/
LOCATION:62 Bowater Rd\, Glenwood\, NL\, A0G 2K0\, Canada
CATEGORIES:Ward Meetings
ATTACH;FMTTYPE=image/jpeg:https://qalipu.ca/qalipu/wp-content/uploads/2016/08/meeting.jpeg
END:VEVENT
END:VCALENDAR