BEGIN:VCALENDAR
VERSION:2.0
PRODID:-//Qalipu - ECPv4.5.13//NONSGML v1.0//EN
CALSCALE:GREGORIAN
METHOD:PUBLISH
X-WR-CALNAME:Qalipu
X-ORIGINAL-URL:https://qalipu.ca
X-WR-CALDESC:Events for Qalipu
BEGIN:VEVENT
DTSTART;VALUE=DATE:20171017
DTEND;VALUE=DATE:20171020
DTSTAMP:20260420T101213
CREATED:20171017T122047Z
LAST-MODIFIED:20171017T123718Z
UID:7437-1508198400-1508543999@qalipu.ca
SUMMARY:Grand Opening Week - People of the Dawn
DESCRIPTION:For more information\, please visit the People of the Dawn Friendship Centre website here: http://pdifc.com/ \n
URL:https://qalipu.ca/event/grand-opening-week-people-of-the-dawn/
CATEGORIES:General
END:VEVENT
END:VCALENDAR