BEGIN:VCALENDAR
VERSION:2.0
PRODID:-//Qalipu - ECPv4.5.13//NONSGML v1.0//EN
CALSCALE:GREGORIAN
METHOD:PUBLISH
X-WR-CALNAME:Qalipu
X-ORIGINAL-URL:https://qalipu.ca
X-WR-CALDESC:Events for Qalipu
BEGIN:VEVENT
DTSTART;TZID=UTC-3.5:20181114T190000
DTEND;TZID=UTC-3.5:20181114T210000
DTSTAMP:20260419T224602
CREATED:20181102T150719Z
LAST-MODIFIED:20181102T150719Z
UID:9760-1542222000-1542229200@qalipu.ca
SUMMARY:Have Your Say! Indigenous Relations - Parks Canada
DESCRIPTION:
URL:https://qalipu.ca/event/have-your-say-indigenous-relations-parks-canada-2/
LOCATION:Hiscock's\, Hiscock's Ln\, Norris Point\, NL\, A0K 3V0\, Canada
CATEGORIES:General
ATTACH;FMTTYPE=image/jpeg:https://qalipu.ca/qalipu/wp-content/uploads/2018/11/SM-ads_GMNP-management-planning_INDIGENOUS-RELATIONS_Oct-29-2018_EN.jpg
END:VEVENT
END:VCALENDAR