BEGIN:VCALENDAR
VERSION:2.0
PRODID:-//Qalipu - ECPv4.5.13//NONSGML v1.0//EN
CALSCALE:GREGORIAN
METHOD:PUBLISH
X-WR-CALNAME:Qalipu
X-ORIGINAL-URL:https://qalipu.ca
X-WR-CALDESC:Events for Qalipu
BEGIN:VEVENT
DTSTART;TZID=UTC-3.5:20171215T190000
DTEND;TZID=UTC-3.5:20171215T190000
DTSTAMP:20260419T224731
CREATED:20171204T154819Z
LAST-MODIFIED:20171207T181158Z
UID:7669-1513364400-1513364400@qalipu.ca
SUMMARY:Hot Chocolate and Christmas Cover Jam
DESCRIPTION:
URL:https://qalipu.ca/event/hot-chocolate-and-christmas-cover-jam/
CATEGORIES:General
ATTACH;FMTTYPE=image/jpeg:https://qalipu.ca/qalipu/wp-content/uploads/2017/12/24231905_10155585486110546_132251461970839382_n.jpg
END:VEVENT
END:VCALENDAR