BEGIN:VCALENDAR
VERSION:2.0
PRODID:-//Qalipu - ECPv4.5.13//NONSGML v1.0//EN
CALSCALE:GREGORIAN
METHOD:PUBLISH
X-WR-CALNAME:Qalipu
X-ORIGINAL-URL:https://qalipu.ca
X-WR-CALDESC:Events for Qalipu
BEGIN:VEVENT
DTSTART;TZID=UTC-3.5:20181128T190000
DTEND;TZID=UTC-3.5:20181128T190000
DTSTAMP:20260420T000056
CREATED:20181126T113652Z
LAST-MODIFIED:20181126T113652Z
UID:9839-1543431600-1543431600@qalipu.ca
SUMMARY:Indian Cove Women's Circle Meeting
DESCRIPTION:
URL:https://qalipu.ca/event/indian-cove-womens-circle-meeting/
LOCATION:329 Main Street\, St. George's\, Newfoundland and Labrador\, Canada
CATEGORIES:General
END:VEVENT
END:VCALENDAR