BEGIN:VCALENDAR
VERSION:2.0
PRODID:-//Qalipu - ECPv4.5.13//NONSGML v1.0//EN
CALSCALE:GREGORIAN
METHOD:PUBLISH
X-WR-CALNAME:Qalipu
X-ORIGINAL-URL:https://qalipu.ca
X-WR-CALDESC:Events for Qalipu
BEGIN:VEVENT
DTSTART;TZID=UTC-3.5:20170705T100000
DTEND;TZID=UTC-3.5:20170705T150000
DTSTAMP:20260419T212146
CREATED:20170605T161105Z
LAST-MODIFIED:20170605T161105Z
UID:6842-1499248800-1499266800@qalipu.ca
SUMMARY:Indigenous Early Learning and Child Care Round Table  Community Engagement
DESCRIPTION:
URL:https://qalipu.ca/event/indigenous-early-learning-and-child-care-round-table-community-engagement/
LOCATION:11 West Street\, Corner Brook\, NL\, A2H 2Y6\, Canada
CATEGORIES:General
ATTACH;FMTTYPE=image/jpeg:https://qalipu.ca/qalipu/wp-content/uploads/2017/06/Early-Learning-and-Child-Care-Poster.jpg
ORGANIZER;CN="Vickie%20McDonald":MAILTO:vmacdonald@qalipu.ca
END:VEVENT
END:VCALENDAR