BEGIN:VCALENDAR
VERSION:2.0
PRODID:-//Qalipu - ECPv4.5.13//NONSGML v1.0//EN
CALSCALE:GREGORIAN
METHOD:PUBLISH
X-WR-CALNAME:Qalipu
X-ORIGINAL-URL:https://qalipu.ca
X-WR-CALDESC:Events for Qalipu
BEGIN:VEVENT
DTSTART;VALUE=DATE:20170118
DTEND;VALUE=DATE:20170118
DTSTAMP:20260419T133837
CREATED:20170112T145410Z
LAST-MODIFIED:20170112T151414Z
UID:5920-1484697600-1484783999@qalipu.ca
SUMMARY:Indigenous Peoples Week Day 3
DESCRIPTION:Catharyn Andersen (Special Advisor to President) lunch with Aboriginal Students\nNoon-2:00pm\, Aboriginal Student Centre \nNorthern Games\, Grenfell Style!\n5:30pm\, Grenfell Gym \n
URL:https://qalipu.ca/event/indigenous-peoples-week-day-3/
LOCATION:20 University Dr.\, Corner Brook\, NL\, A2H 5G4\, Canada
CATEGORIES:General
ATTACH;FMTTYPE=image/jpeg:https://qalipu.ca/qalipu/wp-content/uploads/2017/01/indigenous_peoples_tv_screen-00000004.jpg
END:VEVENT
END:VCALENDAR