BEGIN:VCALENDAR
VERSION:2.0
PRODID:-//Qalipu - ECPv4.5.13//NONSGML v1.0//EN
CALSCALE:GREGORIAN
METHOD:PUBLISH
X-WR-CALNAME:Qalipu
X-ORIGINAL-URL:https://qalipu.ca
X-WR-CALDESC:Events for Qalipu
BEGIN:VEVENT
DTSTART;VALUE=DATE:20170119
DTEND;VALUE=DATE:20170119
DTSTAMP:20260419T182124
CREATED:20170112T150211Z
LAST-MODIFIED:20170112T151507Z
UID:5928-1484784000-1484870399@qalipu.ca
SUMMARY:Indigenous Peoples Week Day 4
DESCRIPTION:Money Wise Student Workshop (hosted by NAWN)\n10:30am\, AS Atrium \nInternational Indigenous Film\, “The Rocket” (2013)\n7:00pm\, AS2026 (nearby the Aboriginal Student Centre) \n
URL:https://qalipu.ca/event/indigenous-peoples-week-day-4/
LOCATION:20 University Dr.\, Corner Brook\, NL\, A2H 5G4\, Canada
CATEGORIES:General
ATTACH;FMTTYPE=image/jpeg:https://qalipu.ca/qalipu/wp-content/uploads/2017/01/indigenous_peoples_tv_screen-00000004.jpg
END:VEVENT
END:VCALENDAR