BEGIN:VCALENDAR
VERSION:2.0
PRODID:-//Qalipu - ECPv4.5.13//NONSGML v1.0//EN
CALSCALE:GREGORIAN
METHOD:PUBLISH
X-WR-CALNAME:Qalipu
X-ORIGINAL-URL:https://qalipu.ca
X-WR-CALDESC:Events for Qalipu
BEGIN:VEVENT
DTSTART;VALUE=DATE:20181107
DTEND;VALUE=DATE:20181108
DTSTAMP:20260419T124119
CREATED:20180918T172324Z
LAST-MODIFIED:20180918T172324Z
UID:9507-1541548800-1541721599@qalipu.ca
SUMMARY:Indigenous Tourism Forum
DESCRIPTION:
URL:https://qalipu.ca/event/indigenous-tourism-forum-2/
LOCATION:38 Main St. S\, Rocky Harbour\, NL\, A0K-4N0\, Canada
CATEGORIES:General
ATTACH;FMTTYPE=image/jpeg:https://qalipu.ca/qalipu/wp-content/uploads/2018/09/tourism-forum-poster-600.jpg
END:VEVENT
END:VCALENDAR