BEGIN:VCALENDAR
VERSION:2.0
PRODID:-//Qalipu - ECPv4.5.13//NONSGML v1.0//EN
CALSCALE:GREGORIAN
METHOD:PUBLISH
X-WR-CALNAME:Qalipu
X-ORIGINAL-URL:https://qalipu.ca
X-WR-CALDESC:Events for Qalipu
BEGIN:VEVENT
DTSTART;VALUE=DATE:20180212
DTEND;VALUE=DATE:20180213
DTSTAMP:20260419T143707
CREATED:20171222T125635Z
LAST-MODIFIED:20171222T130645Z
UID:7747-1518393600-1518566399@qalipu.ca
SUMMARY:Indigenous Tourism Forum
DESCRIPTION:
URL:https://qalipu.ca/event/indigenous-tourism-forum/
CATEGORIES:General
ATTACH;FMTTYPE=image/jpeg:https://qalipu.ca/qalipu/wp-content/uploads/2017/12/Save-the-Date-Indigenous-Tourism-Forum.jpg
END:VEVENT
END:VCALENDAR