BEGIN:VCALENDAR
VERSION:2.0
PRODID:-//Qalipu - ECPv4.5.13//NONSGML v1.0//EN
CALSCALE:GREGORIAN
METHOD:PUBLISH
X-WR-CALNAME:Qalipu
X-ORIGINAL-URL:https://qalipu.ca
X-WR-CALDESC:Events for Qalipu
BEGIN:VEVENT
DTSTART;TZID=UTC-3.5:20171211T190000
DTEND;TZID=UTC-3.5:20171211T190000
DTSTAMP:20260420T054329
CREATED:20171207T130637Z
LAST-MODIFIED:20171207T130637Z
UID:7689-1513018800-1513018800@qalipu.ca
SUMMARY:Information Session on the Jordan’s Principle
DESCRIPTION:See https://www.canada.ca/en/health-canada/services/first-nations-inuit-health/jordans-principle.html \nJordan’s Principle – Canada.ca\nwww.canada.ca\n \nLearn about Jordan’s Principle\, its recent changes and how it protects First Nations children. \n
URL:https://qalipu.ca/event/information-session-on-the-jordans-principle/
LOCATION:62 Bowater Rd\, Glenwood\, NL\, A0G 2K0\, Canada
CATEGORIES:General
END:VEVENT
END:VCALENDAR