BEGIN:VCALENDAR
VERSION:2.0
PRODID:-//Qalipu - ECPv4.5.13//NONSGML v1.0//EN
CALSCALE:GREGORIAN
METHOD:PUBLISH
X-WR-CALNAME:Qalipu
X-ORIGINAL-URL:https://qalipu.ca
X-WR-CALDESC:Events for Qalipu
BEGIN:VEVENT
DTSTART;TZID=UTC-2.5:20161121T063000
DTEND;TZID=UTC-2.5:20161121T203000
DTSTAMP:20260419T183309
CREATED:20161116T192508Z
LAST-MODIFIED:20161116T192508Z
UID:5652-1479709800-1479760200@qalipu.ca
SUMMARY:Janice Godin Author of Then She Danced
DESCRIPTION:
URL:https://qalipu.ca/event/janice-godin-author-of-then-she-danced/
LOCATION:183 Main Street\, St. George's\, NL\, Canada
CATEGORIES:General
ATTACH;FMTTYPE=image/jpeg:https://qalipu.ca/qalipu/wp-content/uploads/2016/11/Then-She-Danced.jpg
END:VEVENT
END:VCALENDAR