BEGIN:VCALENDAR
VERSION:2.0
PRODID:-//Qalipu - ECPv4.5.13//NONSGML v1.0//EN
CALSCALE:GREGORIAN
METHOD:PUBLISH
X-WR-CALNAME:Qalipu
X-ORIGINAL-URL:https://qalipu.ca
X-WR-CALDESC:Events for Qalipu
BEGIN:VEVENT
DTSTART;TZID=UTC-2.5:20210320T143000
DTEND;TZID=UTC-2.5:20210320T173000
DTSTAMP:20260419T183606
CREATED:20210226T180040Z
LAST-MODIFIED:20210226T180040Z
UID:13409-1616250600-1616261400@qalipu.ca
SUMMARY:Ko'kmanaq Apoqnmuksi'kik - Our cousins are helping us
DESCRIPTION:
URL:https://qalipu.ca/event/kokmanaq-apoqnmuksikik-our-cousins-are-helping-us-2/
ATTACH;FMTTYPE=image/jpeg:https://qalipu.ca/qalipu/wp-content/uploads/2021/02/Kokmanaq-Apoqnmuksikik.jpg
END:VEVENT
END:VCALENDAR