BEGIN:VCALENDAR
VERSION:2.0
PRODID:-//Qalipu - ECPv4.5.13//NONSGML v1.0//EN
CALSCALE:GREGORIAN
METHOD:PUBLISH
X-WR-CALNAME:Qalipu
X-ORIGINAL-URL:https://qalipu.ca
X-WR-CALDESC:Events for Qalipu
BEGIN:VEVENT
DTSTART;TZID=UTC-2.5:20210313T023000
DTEND;TZID=UTC-2.5:20210313T173000
DTSTAMP:20260419T130547
CREATED:20210226T175857Z
LAST-MODIFIED:20210226T180109Z
UID:13406-1615602600-1615656600@qalipu.ca
SUMMARY:Ko'kmanaq Apoqnmuksi'kik - Our cousins are helping us
DESCRIPTION:
URL:https://qalipu.ca/event/kokmanaq-apoqnmuksikik-our-cousins-are-helping-us/
ATTACH;FMTTYPE=image/jpeg:https://qalipu.ca/qalipu/wp-content/uploads/2021/02/Kokmanaq-Apoqnmuksikik.jpg
END:VEVENT
END:VCALENDAR