BEGIN:VCALENDAR
VERSION:2.0
PRODID:-//Qalipu - ECPv4.5.13//NONSGML v1.0//EN
CALSCALE:GREGORIAN
METHOD:PUBLISH
X-WR-CALNAME:Qalipu
X-ORIGINAL-URL:https://qalipu.ca
X-WR-CALDESC:Events for Qalipu
BEGIN:VEVENT
DTSTART;TZID=UTC-3.5:20170407T080000
DTEND;TZID=UTC-3.5:20170407T170000
DTSTAMP:20260419T182941
CREATED:20170407T153138Z
LAST-MODIFIED:20170407T153138Z
UID:6545-1491552000-1491584400@qalipu.ca
SUMMARY:L'NU Teachings With Andrea & Brett Colfer
DESCRIPTION:
URL:https://qalipu.ca/event/lnu-teachings-with-andrea-brett-colfer/
CATEGORIES:General
ATTACH;FMTTYPE=image/jpeg:https://qalipu.ca/qalipu/wp-content/uploads/2017/04/L-nu.jpg
END:VEVENT
END:VCALENDAR