BEGIN:VCALENDAR
VERSION:2.0
PRODID:-//Qalipu - ECPv4.5.13//NONSGML v1.0//EN
CALSCALE:GREGORIAN
METHOD:PUBLISH
X-WR-CALNAME:Qalipu
X-ORIGINAL-URL:https://qalipu.ca
X-WR-CALDESC:Events for Qalipu
BEGIN:VEVENT
DTSTART;TZID=UTC-3.5:20220726T100000
DTEND;TZID=UTC-3.5:20220726T130000
DTSTAMP:20260423T152720
CREATED:20220720T101937Z
LAST-MODIFIED:20220720T101937Z
UID:15557-1658829600-1658840400@qalipu.ca
SUMMARY:Marathon Gold - Meet & Greet (Grand Falls-Windsor)
DESCRIPTION: \n
URL:https://qalipu.ca/event/marathon-gold-meet-greet-grand-falls-windsor/
LOCATION:214 Lincoln Rd\, Grand Falls\, Newfoundland\, A2A1P8\, Canada
END:VEVENT
END:VCALENDAR