BEGIN:VCALENDAR
VERSION:2.0
PRODID:-//Qalipu - ECPv4.5.13//NONSGML v1.0//EN
CALSCALE:GREGORIAN
METHOD:PUBLISH
X-WR-CALNAME:Qalipu
X-ORIGINAL-URL:https://qalipu.ca
X-WR-CALDESC:Events for Qalipu
BEGIN:VEVENT
DTSTART;TZID=UTC-3.5:20200623T190000
DTEND;TZID=UTC-3.5:20200623T190000
DTSTAMP:20260419T123823
CREATED:20200616T124540Z
LAST-MODIFIED:20200616T124635Z
UID:12018-1592938800-1592938800@qalipu.ca
SUMMARY:Marathon Gold - Public Information Session
DESCRIPTION: \n
URL:https://qalipu.ca/event/marathon-gold-public-information-session/
CATEGORIES:General
END:VEVENT
END:VCALENDAR