BEGIN:VCALENDAR
VERSION:2.0
PRODID:-//Qalipu - ECPv4.5.13//NONSGML v1.0//EN
CALSCALE:GREGORIAN
METHOD:PUBLISH
X-WR-CALNAME:Qalipu
X-ORIGINAL-URL:https://qalipu.ca
X-WR-CALDESC:Events for Qalipu
BEGIN:VEVENT
DTSTART;TZID=UTC-3.5:20221219T180000
DTEND;TZID=UTC-3.5:20221219T193000
DTSTAMP:20260423T220212
CREATED:20221130T173348Z
LAST-MODIFIED:20221213T183032Z
UID:16209-1671472800-1671478200@qalipu.ca
SUMMARY:Marathon Gold - Virtual Employment Information Session
DESCRIPTION: \n  \nMeeting Link \n  \n
URL:https://qalipu.ca/event/marathon-gold-virtual-employment-information-session-2/
END:VEVENT
END:VCALENDAR