BEGIN:VCALENDAR
VERSION:2.0
PRODID:-//Qalipu - ECPv4.5.13//NONSGML v1.0//EN
CALSCALE:GREGORIAN
METHOD:PUBLISH
X-WR-CALNAME:Qalipu
X-ORIGINAL-URL:https://qalipu.ca
X-WR-CALDESC:Events for Qalipu
BEGIN:VEVENT
DTSTART;TZID=UTC-3.5:20221213T140000
DTEND;TZID=UTC-3.5:20221213T153000
DTSTAMP:20260423T220309
CREATED:20221130T173226Z
LAST-MODIFIED:20221130T173226Z
UID:16205-1670940000-1670945400@qalipu.ca
SUMMARY:Marathon Gold - Virtual Employment Information Session
DESCRIPTION:			\n				\n					\n						\n							\n							Loading...\n						\n					\n					\n						\n							\n							Taking too long?\n						\n						\n								 Reload document							\n							|\n							\n								 Open in new tab							\n					\n				\n			\n		Download [220.49 KB]  \n
URL:https://qalipu.ca/event/marathon-gold-virtual-employment-information-session/
END:VEVENT
END:VCALENDAR