BEGIN:VCALENDAR
VERSION:2.0
PRODID:-//Qalipu - ECPv4.5.13//NONSGML v1.0//EN
CALSCALE:GREGORIAN
METHOD:PUBLISH
X-WR-CALNAME:Qalipu
X-ORIGINAL-URL:https://qalipu.ca
X-WR-CALDESC:Events for Qalipu
BEGIN:VEVENT
DTSTART;TZID=UTC-2.5:20160818T180000
DTEND;TZID=UTC-2.5:20160818T200000
DTSTAMP:20260419T214615
CREATED:20160816T173846Z
LAST-MODIFIED:20160816T173846Z
UID:5124-1471543200-1471550400@qalipu.ca
SUMMARY:Meet and Greet
DESCRIPTION:
URL:https://qalipu.ca/event/meet-and-greet/
LOCATION:183 Main Street\, St. George's\, NL\, Canada
CATEGORIES:General
ATTACH;FMTTYPE=image/jpeg:https://qalipu.ca/qalipu/wp-content/uploads/2016/08/Rokstad.jpg
END:VEVENT
END:VCALENDAR