BEGIN:VCALENDAR
VERSION:2.0
PRODID:-//Qalipu - ECPv4.5.13//NONSGML v1.0//EN
CALSCALE:GREGORIAN
METHOD:PUBLISH
X-WR-CALNAME:Qalipu
X-ORIGINAL-URL:https://qalipu.ca
X-WR-CALDESC:Events for Qalipu
BEGIN:VEVENT
DTSTART;TZID=UTC-2.5:20161114T143000
DTEND;TZID=UTC-2.5:20161114T143000
DTSTAMP:20260420T043419
CREATED:20161108T162659Z
LAST-MODIFIED:20161108T162659Z
UID:5574-1479133800-1479133800@qalipu.ca
SUMMARY:Meet & Greet with Caribou Legs: Grandfalls - Windsor
DESCRIPTION:
URL:https://qalipu.ca/event/meet-greet-with-caribou-legs-grandfalls-windsor/
CATEGORIES:General
ATTACH;FMTTYPE=image/jpeg:https://qalipu.ca/qalipu/wp-content/uploads/2016/11/Caribou-Legs.jpg
END:VEVENT
END:VCALENDAR