BEGIN:VCALENDAR
VERSION:2.0
PRODID:-//Qalipu - ECPv4.5.13//NONSGML v1.0//EN
CALSCALE:GREGORIAN
METHOD:PUBLISH
X-WR-CALNAME:Qalipu
X-ORIGINAL-URL:https://qalipu.ca
X-WR-CALDESC:Events for Qalipu
BEGIN:VEVENT
DTSTART;TZID=UTC-3.5:20240412T180000
DTEND;TZID=UTC-3.5:20240412T200000
DTSTAMP:20260419T222900
CREATED:20240405T130453Z
LAST-MODIFIED:20240405T130453Z
UID:18341-1712944800-1712952000@qalipu.ca
SUMMARY:Meet & Greet with Phyllis (Jack) Webstad
DESCRIPTION: \nPhyllis Webstad was the little girl who had her orange shirt taken away from her on her first day of residential school. Who would have thought that this traumatic experience would lead her to become the founder and ambassador of the Orange Shirt Society? \nThe Orange Shirt Day movement and Phyllis’ message of love and hope that “Every Child Matters\,” began in 2013 and a National day to recognize the impact of the Canadian Indian residential school system was implemented on September 30\, 2021. This day became known as the National Day for Truth and Reconciliation in Canada. \nJudy Falle (Client Intake Officer with QFN) recently published her children’s Indigenous book\, “Poppa and His Drum”. The book explores the topic of Truth and Reconciliation from a local perspective. Throughout her creative process and the publication of the book\, Judy sought guidance and support from Phyllis Webstad. This friendship and collaboration inspired Judy to meet Phyllis in person and bring her positive message of love to our community so she partnered with local organizations to host a visit. \nAfter much planning and preparation\, Phyllis will visit Newfoundland next week to meet with community members including several school visits. \nLet’s show our community support by filling the Lion’s Club and welcoming Phyllis next Friday evening in Stephenville from 6:00-8:00 pm. \nThank you to Judy and her partners for working together to host this wonderful visit. \nPartners: Newfoundland Aboriginal Women’s Network\, People of the Dawn Indigenous Friendship Centre\, Mi’kmaw Cultural Foundation\, and Ulnooweg. \n
URL:https://qalipu.ca/event/meet-greet-with-phyllis-jack-webstad/
LOCATION:2 Woodland St.\, Stepheville\, NL\, A2N 2Y7\, Canada
CATEGORIES:General
END:VEVENT
END:VCALENDAR