BEGIN:VCALENDAR
VERSION:2.0
PRODID:-//Qalipu - ECPv4.5.13//NONSGML v1.0//EN
CALSCALE:GREGORIAN
METHOD:PUBLISH
X-WR-CALNAME:Qalipu
X-ORIGINAL-URL:https://qalipu.ca
X-WR-CALDESC:Events for Qalipu
BEGIN:VEVENT
DTSTART;TZID=UTC-2.5:20160813T180000
DTEND;TZID=UTC-2.5:20160813T180000
DTSTAMP:20260419T165028
CREATED:20160812T154918Z
LAST-MODIFIED:20160812T154952Z
UID:5116-1471111200-1471111200@qalipu.ca
SUMMARY:MMIWG2S-Panel Discussion
DESCRIPTION:
URL:https://qalipu.ca/event/mmiwg2s-panel-discussion/
LOCATION:20 University Dr.\, Corner Brook\, NL\, A2H 5G4\, Canada
CATEGORIES:General
ATTACH;FMTTYPE=image/jpeg:https://qalipu.ca/qalipu/wp-content/uploads/2016/08/MMIW-Forum-Poster-low-res.jpg
END:VEVENT
END:VCALENDAR