BEGIN:VCALENDAR
VERSION:2.0
PRODID:-//Qalipu - ECPv4.5.13//NONSGML v1.0//EN
CALSCALE:GREGORIAN
METHOD:PUBLISH
X-WR-CALNAME:Qalipu
X-ORIGINAL-URL:https://qalipu.ca
X-WR-CALDESC:Events for Qalipu
BEGIN:VEVENT
DTSTART;VALUE=DATE:20180214
DTEND;VALUE=DATE:20180215
DTSTAMP:20260420T012955
CREATED:20180125T142427Z
LAST-MODIFIED:20180201T170113Z
UID:7904-1518566400-1518739199@qalipu.ca
SUMMARY:Moosehide Campaign Against Violence Towards Women and Children - People of the Dawn Indigenous Friendship Centre
DESCRIPTION:https://www.facebook.com/events/1795096023858209/ \n
URL:https://qalipu.ca/event/moosehide-campaign-against-violence-towards-women-and-children-people-of-the-dawn/
LOCATION:329 Main Street\, St. George's\, Newfoundland and Labrador\, Canada
CATEGORIES:General
END:VEVENT
END:VCALENDAR