BEGIN:VCALENDAR
VERSION:2.0
PRODID:-//Qalipu - ECPv4.5.13//NONSGML v1.0//EN
CALSCALE:GREGORIAN
METHOD:PUBLISH
X-WR-CALNAME:Qalipu
X-ORIGINAL-URL:https://qalipu.ca
X-WR-CALDESC:Events for Qalipu
BEGIN:VEVENT
DTSTART;TZID=UTC-3.5:20170317T151500
DTEND;TZID=UTC-3.5:20170317T171500
DTSTAMP:20260420T063008
CREATED:20170315T132743Z
LAST-MODIFIED:20170315T132743Z
UID:6392-1489763700-1489770900@qalipu.ca
SUMMARY:Nation Circle of Ceremony and Healing for Our Spirits
DESCRIPTION:
URL:https://qalipu.ca/event/nation-circle-of-ceremony-and-healing-for-our-spirits/
LOCATION:383 Massachusetts Drive\, Stephenville\, NL\, A2N 3A9\, Canada
CATEGORIES:General
ATTACH;FMTTYPE=image/jpeg:https://qalipu.ca/qalipu/wp-content/uploads/2017/03/IMG_0760.jpg
END:VEVENT
END:VCALENDAR