BEGIN:VCALENDAR
VERSION:2.0
PRODID:-//Qalipu - ECPv4.5.13//NONSGML v1.0//EN
CALSCALE:GREGORIAN
METHOD:PUBLISH
X-WR-CALNAME:Qalipu
X-ORIGINAL-URL:https://qalipu.ca
X-WR-CALDESC:Events for Qalipu
BEGIN:VEVENT
DTSTART;TZID=UTC-3.5:20170620T110000
DTEND;TZID=UTC-3.5:20170620T110000
DTSTAMP:20260420T030258
CREATED:20170608T131950Z
LAST-MODIFIED:20170608T131950Z
UID:6893-1497956400-1497956400@qalipu.ca
SUMMARY:National Aboriginal Day celebrations Our Lady of the Cape
DESCRIPTION:
URL:https://qalipu.ca/event/national-aboriginal-day-celebrations-our-lady-of-the-cape/
LOCATION:811 Oceanview Drive\, Degrau\, NL\, A0N 1T1\, Canada
CATEGORIES:General
ATTACH;FMTTYPE=image/jpeg:https://qalipu.ca/qalipu/wp-content/uploads/2017/06/Mikmaw-Centre-schedule-2017summer.jpg
END:VEVENT
END:VCALENDAR