BEGIN:VCALENDAR
VERSION:2.0
PRODID:-//Qalipu - ECPv4.5.13//NONSGML v1.0//EN
CALSCALE:GREGORIAN
METHOD:PUBLISH
X-WR-CALNAME:Qalipu
X-ORIGINAL-URL:https://qalipu.ca
X-WR-CALDESC:Events for Qalipu
BEGIN:VEVENT
DTSTART;VALUE=DATE:20220930
DTEND;VALUE=DATE:20220930
DTSTAMP:20260424T040612
CREATED:20220831T131343Z
LAST-MODIFIED:20220921T122014Z
UID:15674-1664496000-1664582399@qalipu.ca
SUMMARY:National Day for Truth and Reconciliation (Corner Brook)
DESCRIPTION: \n
URL:https://qalipu.ca/event/national-day-for-truth-and-reconciliation-2/
END:VEVENT
END:VCALENDAR