BEGIN:VCALENDAR
VERSION:2.0
PRODID:-//Qalipu - ECPv4.5.13//NONSGML v1.0//EN
CALSCALE:GREGORIAN
METHOD:PUBLISH
X-WR-CALNAME:Qalipu
X-ORIGINAL-URL:https://qalipu.ca
X-WR-CALDESC:Events for Qalipu
BEGIN:VEVENT
DTSTART;TZID=UTC-3.5:20220930T170000
DTEND;TZID=UTC-3.5:20220930T170000
DTSTAMP:20260424T052954
CREATED:20220926T124651Z
LAST-MODIFIED:20220926T124651Z
UID:15759-1664557200-1664557200@qalipu.ca
SUMMARY:National Day for Truth and Reconciliation (Badger)
DESCRIPTION: \n
URL:https://qalipu.ca/event/national-day-for-truth-and-reconciliation-badger/
END:VEVENT
END:VCALENDAR