BEGIN:VCALENDAR
VERSION:2.0
PRODID:-//Qalipu - ECPv4.5.13//NONSGML v1.0//EN
CALSCALE:GREGORIAN
METHOD:PUBLISH
X-WR-CALNAME:Qalipu
X-ORIGINAL-URL:https://qalipu.ca
X-WR-CALDESC:Events for Qalipu
BEGIN:VEVENT
DTSTART;TZID=UTC-3.5:20181206T120000
DTEND;TZID=UTC-3.5:20181206T133000
DTSTAMP:20260420T052208
CREATED:20181203T125822Z
LAST-MODIFIED:20181203T125822Z
UID:9948-1544097600-1544103000@qalipu.ca
SUMMARY:National Day of Rememberance and Action on Violence against Women Memorial & Candlelight Vigil
DESCRIPTION:
URL:https://qalipu.ca/event/national-day-of-rememberance-and-action-on-violence-against-women-memorial-candlelight-vigil/
LOCATION:432 Massachusetts Dr\, Stephenville\, NL\, A2N 3C1\, Canada
CATEGORIES:General
ATTACH;FMTTYPE=image/jpeg:https://qalipu.ca/qalipu/wp-content/uploads/2018/12/image001.jpg
END:VEVENT
END:VCALENDAR