BEGIN:VCALENDAR
VERSION:2.0
PRODID:-//Qalipu - ECPv4.5.13//NONSGML v1.0//EN
CALSCALE:GREGORIAN
METHOD:PUBLISH
X-WR-CALNAME:Qalipu
X-ORIGINAL-URL:https://qalipu.ca
X-WR-CALDESC:Events for Qalipu
BEGIN:VEVENT
DTSTART;TZID=UTC-2.5:20210318T153000
DTEND;TZID=UTC-2.5:20210318T163000
DTSTAMP:20260419T173654
CREATED:20210312T131555Z
LAST-MODIFIED:20210312T131644Z
UID:13512-1616081400-1616085000@qalipu.ca
SUMMARY:Navigating Post Secondary: Drop-In Session
DESCRIPTION:Come hang out with our combined elder & youth mentors team for some 1-on-1 support on : \n\npost-secondary / scholarship applications\ngeneral life guidance\n\nVirtual Drop-ins Thursdays – Thursday\, March 18th 3:30-4:30 PM NST \n*For Indigenous students / students to be \nFind ZOOM link here: https://fb.me/e/OaeHtgIc \n
URL:https://qalipu.ca/event/navigating-post-secondary-drop-in-session/
ATTACH;FMTTYPE=image/png:https://qalipu.ca/qalipu/wp-content/uploads/2021/03/Event-Brite-Banners_Indigenous-Student-Resources-Readiness-2.png
END:VEVENT
END:VCALENDAR