BEGIN:VCALENDAR
VERSION:2.0
PRODID:-//Qalipu - ECPv4.5.13//NONSGML v1.0//EN
CALSCALE:GREGORIAN
METHOD:PUBLISH
X-WR-CALNAME:Qalipu
X-ORIGINAL-URL:https://qalipu.ca
X-WR-CALDESC:Events for Qalipu
BEGIN:VEVENT
DTSTART;TZID=UTC-3.5:20181118T140000
DTEND;TZID=UTC-3.5:20181118T140000
DTSTAMP:20260420T074242
CREATED:20181102T171946Z
LAST-MODIFIED:20181102T171946Z
UID:9779-1542549600-1542549600@qalipu.ca
SUMMARY:Notice of Meeting - St. George's Indian Band AGA
DESCRIPTION:
URL:https://qalipu.ca/event/notice-of-meeting-st-georges-indian-band-aga/
LOCATION:183 Main Street\, St. George's\, NL\, Canada
CATEGORIES:General
ATTACH;FMTTYPE=image/jpeg:https://qalipu.ca/qalipu/wp-content/uploads/2018/11/image1.jpeg
END:VEVENT
END:VCALENDAR