BEGIN:VCALENDAR
VERSION:2.0
PRODID:-//Qalipu - ECPv4.5.13//NONSGML v1.0//EN
CALSCALE:GREGORIAN
METHOD:PUBLISH
X-WR-CALNAME:Qalipu
X-ORIGINAL-URL:https://qalipu.ca
X-WR-CALDESC:Events for Qalipu
BEGIN:VEVENT
DTSTART;TZID=UTC-3.5:20171106T120000
DTEND;TZID=UTC-3.5:20171106T130000
DTSTAMP:20260420T054112
CREATED:20171101T174914Z
LAST-MODIFIED:20171101T174914Z
UID:7546-1509969600-1509973200@qalipu.ca
SUMMARY:Our Stories: Yesterday and Today
DESCRIPTION:
URL:https://qalipu.ca/event/our-stories-yesterday-and-today/
LOCATION:90 Main Street\, Stephenville\, NL\, Canada
CATEGORIES:General
ATTACH;FMTTYPE=image/jpeg:https://qalipu.ca/qalipu/wp-content/uploads/2017/11/Our-Stories.jpg
END:VEVENT
END:VCALENDAR