BEGIN:VCALENDAR
VERSION:2.0
PRODID:-//Qalipu - ECPv4.5.13//NONSGML v1.0//EN
CALSCALE:GREGORIAN
METHOD:PUBLISH
X-WR-CALNAME:Qalipu
X-ORIGINAL-URL:https://qalipu.ca
X-WR-CALDESC:Events for Qalipu
BEGIN:VEVENT
DTSTART;TZID=UTC-2.5:20260507T180000
DTEND;TZID=UTC-2.5:20260507T200000
DTSTAMP:20260424T113729
CREATED:20260422T132732Z
LAST-MODIFIED:20260422T133025Z
UID:21193-1778176800-1778184000@qalipu.ca
SUMMARY:Paint Night - Flat Bay East
DESCRIPTION:Join us for Paint Night in Flat Bay East on May 7. \nEnjoy a relaxed evening of painting and spending time together in community. \nRegistration is required and space is limited. Priority will be given to Qalipu First Nation members. Staff will contact you to confirm your seat. \nTo register\, please complete the form: Registration Form \nOr contact Tiffany: 709-643-2995 or tiffany.parsons@qalipu.ca \n
URL:https://qalipu.ca/event/paint-night-flat-bay-east/
CATEGORIES:General
ATTACH;FMTTYPE=image/png:https://qalipu.ca/qalipu/wp-content/uploads/2026/04/Paint-Night-Flat-Bayv2-1.png
END:VEVENT
END:VCALENDAR