BEGIN:VCALENDAR
VERSION:2.0
PRODID:-//Qalipu - ECPv4.5.13//NONSGML v1.0//EN
CALSCALE:GREGORIAN
METHOD:PUBLISH
X-WR-CALNAME:Qalipu
X-ORIGINAL-URL:https://qalipu.ca
X-WR-CALDESC:Events for Qalipu
BEGIN:VEVENT
DTSTART;TZID=UTC-2.5:20160722T123000
DTEND;TZID=UTC-2.5:20160722T150000
DTSTAMP:20260420T070404
CREATED:20160718T162128Z
LAST-MODIFIED:20160720T145645Z
UID:5013-1469190600-1469199600@qalipu.ca
SUMMARY:Passing on Cultural Teachings and Traditions
DESCRIPTION:
URL:https://qalipu.ca/event/passing-on-cultural-teachings-and-traditions/
CATEGORIES:General
ATTACH;FMTTYPE=image/jpeg:https://qalipu.ca/qalipu/wp-content/uploads/2016/07/AboriginalPoster_Final_CBMA_20160712_GRF-002.jpg
END:VEVENT
END:VCALENDAR