BEGIN:VCALENDAR
VERSION:2.0
PRODID:-//Qalipu - ECPv4.5.13//NONSGML v1.0//EN
CALSCALE:GREGORIAN
METHOD:PUBLISH
X-WR-CALNAME:Qalipu
X-ORIGINAL-URL:https://qalipu.ca
X-WR-CALDESC:Events for Qalipu
BEGIN:VEVENT
DTSTART;TZID=UTC-3.5:20180119T183000
DTEND;TZID=UTC-3.5:20180119T200000
DTSTAMP:20260420T052209
CREATED:20180105T160539Z
LAST-MODIFIED:20180112T163429Z
UID:7772-1516386600-1516392000@qalipu.ca
SUMMARY:People of the Dawn Indigenous Friendship Center - Youth Dance
DESCRIPTION:
URL:https://qalipu.ca/event/people-of-the-dawn-indigenous-friendship-center-youth-dance/
LOCATION:329 Main Street\, St. George's\, Newfoundland and Labrador\, Canada
CATEGORIES:General
ATTACH;FMTTYPE=image/jpeg:https://qalipu.ca/qalipu/wp-content/uploads/2018/01/IMG_1753.jpg
END:VEVENT
END:VCALENDAR