BEGIN:VCALENDAR
VERSION:2.0
PRODID:-//Qalipu - ECPv4.5.13//NONSGML v1.0//EN
CALSCALE:GREGORIAN
METHOD:PUBLISH
X-WR-CALNAME:Qalipu
X-ORIGINAL-URL:https://qalipu.ca
X-WR-CALDESC:Events for Qalipu
BEGIN:VEVENT
DTSTART;VALUE=DATE:20161127
DTEND;VALUE=DATE:20161127
DTSTAMP:20260420T054743
CREATED:20160930T142436Z
LAST-MODIFIED:20161005T135947Z
UID:5304-1480204800-1480291199@qalipu.ca
SUMMARY:Port au Port Ward Meeting
DESCRIPTION:Ward Councillor Jasen Benwah will host meetings in his Ward on Sunday\, November 27. \n1pm : Port au Port Leasure Centre in Port au Port West \n4pm in the Lourdes Parish Hall \n7pm at the Mi’kmaw Centre in Degrau \nAll Qalipu Band Members and Applicants for the Port au Port Ward are urged to attend. \n
URL:https://qalipu.ca/event/port-au-port-ward-meeting-2/
CATEGORIES:Ward Meetings
ATTACH;FMTTYPE=image/jpeg:https://qalipu.ca/qalipu/wp-content/uploads/2016/10/2016-second-set-of-Qalipu-Meetings-27Nov-2016.jpg
END:VEVENT
END:VCALENDAR