BEGIN:VCALENDAR
VERSION:2.0
PRODID:-//Qalipu - ECPv4.5.13//NONSGML v1.0//EN
CALSCALE:GREGORIAN
METHOD:PUBLISH
X-WR-CALNAME:Qalipu
X-ORIGINAL-URL:https://qalipu.ca
X-WR-CALDESC:Events for Qalipu
BEGIN:VEVENT
DTSTART;TZID=UTC-3.5:20190216T130000
DTEND;TZID=UTC-3.5:20190216T130000
DTSTAMP:20260420T035140
CREATED:20190214T143838Z
LAST-MODIFIED:20190214T143838Z
UID:10226-1550322000-1550322000@qalipu.ca
SUMMARY:Port aux Port Ward Meeting Feb 16\, 2019
DESCRIPTION:Port aux Port Ward\, Saturday Feb 16th 1pm Parish Hall\, Piccadilly Crossroads \n
URL:https://qalipu.ca/event/port-aux-port-ward-meeting-feb-16-2019/
CATEGORIES:Ward Meetings
END:VEVENT
END:VCALENDAR