BEGIN:VCALENDAR
VERSION:2.0
PRODID:-//Qalipu - ECPv4.5.13//NONSGML v1.0//EN
CALSCALE:GREGORIAN
METHOD:PUBLISH
X-WR-CALNAME:Qalipu
X-ORIGINAL-URL:https://qalipu.ca
X-WR-CALDESC:Events for Qalipu
BEGIN:VEVENT
DTSTART;TZID=UTC-2.5:20160918T140000
DTEND;TZID=UTC-2.5:20160918T140000
DTSTAMP:20260420T061529
CREATED:20160906T133330Z
LAST-MODIFIED:20160906T133330Z
UID:5207-1474207200-1474207200@qalipu.ca
SUMMARY:Powwow Planning/Committee Meeting
DESCRIPTION:There will be a powwow planning/committee meeting held at the Flat Bay Band office September 18th @ 2:00pm. If you would like to assist in the 2017 Flat Bay Powwow planning process\, please attend. \n
URL:https://qalipu.ca/event/powwow-planningcommittee-meeting/
LOCATION:Flat Bay\, NL\, A0N 1N0\, Canada
CATEGORIES:General
END:VEVENT
END:VCALENDAR