BEGIN:VCALENDAR
VERSION:2.0
PRODID:-//Qalipu - ECPv4.5.13//NONSGML v1.0//EN
CALSCALE:GREGORIAN
METHOD:PUBLISH
X-WR-CALNAME:Qalipu
X-ORIGINAL-URL:https://qalipu.ca
X-WR-CALDESC:Events for Qalipu
BEGIN:VEVENT
DTSTART;TZID=UTC-3.5:20191027T140000
DTEND;TZID=UTC-3.5:20191027T160000
DTSTAMP:20260424T042126
CREATED:20190925T150920Z
LAST-MODIFIED:20190925T151001Z
UID:11153-1572184800-1572192000@qalipu.ca
SUMMARY:Qalipu Ward Meeting: Port au Port
DESCRIPTION:
URL:https://qalipu.ca/event/qalipu-ward-meeting-port-au-port/
LOCATION:13 NL-460\, Aguathuna\, NL\, A0N 1A0\, Canada
CATEGORIES:Ward Meetings
ATTACH;FMTTYPE=image/jpeg:https://qalipu.ca/qalipu/wp-content/uploads/2019/09/QALIPU-WARD-MEETING-OCT-27-2019.jpg
END:VEVENT
END:VCALENDAR