BEGIN:VCALENDAR
VERSION:2.0
PRODID:-//Qalipu - ECPv4.5.13//NONSGML v1.0//EN
CALSCALE:GREGORIAN
METHOD:PUBLISH
X-WR-CALNAME:Qalipu
X-ORIGINAL-URL:https://qalipu.ca
X-WR-CALDESC:Events for Qalipu
BEGIN:VEVENT
DTSTART;VALUE=DATE:20210228
DTEND;VALUE=DATE:20210328
DTSTAMP:20260419T125840
CREATED:20210312T130057Z
LAST-MODIFIED:20210312T130057Z
UID:13499-1614470400-1616975999@qalipu.ca
SUMMARY:Qalipu Youth Council Elections
DESCRIPTION:Our youth network is holding an election for the Qalipu Mi’kmaq Youth Council starting February 28 – March 28th! If you are a self-identifying Mi’kmaq youth (14-30) and would like to run / register to vote in this election\, please visit our elections website for more information: https://sites.google.com/view/qynelections/home \n
URL:https://qalipu.ca/event/qalipu-youth-council-elections/
ATTACH;FMTTYPE=image/png:https://qalipu.ca/qalipu/wp-content/uploads/2021/02/Qalipu-Mikmaq-youth-network-FB-banners-2.png
END:VEVENT
END:VCALENDAR